BEGIN:VCALENDAR
VERSION:2.0
PRODID:-//CERN//INDICO//EN
BEGIN:VEVENT
SUMMARY:XVI Всеукраїнська науково-практична 
 конференція «Проблеми та перспективи ро
 звитку охорони праці» та VI Всеукраїнськ
 а науково-практична конференція «Охорон
 а праці: освіта і практика»
DTSTART;VALUE=DATE-TIME:20260507T060000Z
DTEND;VALUE=DATE-TIME:20260507T150000Z
DTSTAMP;VALUE=DATE-TIME:20260424T232359Z
UID:indico-event-77@indico.ldubgd.edu.ua
DESCRIPTION:                                    \n\nШ
 ановне наукове товариство!\n\nЗапрошуємо 
 Вас взяти участь у XVI Всеукраїнській нау
 ково-практичній конференції «Проблеми т
 а перспективи розвитку охорони праці» т
 а VI Всеукраїнській науково-практичній к
 онференції «Охорона праці: освіта і прак
 тика»\n\n \n\nМетою заходу є обговорення а
 ктуальних наукових і практичних проблем
  охорони праці\; розвиток освіти та профе
 сійної підготовки фахівців\; впроваджен
 ня ризик-орієнтованих підходів до управ
 ління безпекою\; обмін практичним досвід
 ом між наукою\, освітою та виробництвом\; 
 популяризація культури безпеки праці.\n\n
  \n\nВажливі дати:\n\nдо 30 квітня 2026 — реєст
 рація та подання тез\; \n\nдо 03 травня 2026 — 
 повідомлення про прийняття\;\n\n     07 тра
 вня 2026 — проведення конференцій\;\n\nдо 30 
 травня 2026 — подання матеріалів для коле
 ктивної монографії.\n\nдо 10 червня 2026 — ро
 зсилання сертифікатів та матеріалів кон
 ференцій.\n\n \n\nРобота конференцій перед
 бачає спільне проведення пленарного\, пі
 дсумкового засідання та поєднання темат
 ичних секцій конференцій.\n\n \n\n \n\nДля уч
 асті у конференції необхідно зареєструв
 атися та завантажити тези за посиланням
 и: \n\n1. VІ Всеукраїнська науково-практичн
 а конференція викладачів та фахівців-пр
 актиків «Охорона праці: освіта і практик
 а»: https://forms.gle/uVjZN3wuRrUyBrbd6\;\n\n2. ХVІ Всеукраїн
 ська науково-практична конференція курс
 антів\, студентів\, аспірантів та ад’юнк
 тів «Проблеми та перспективи розвитку о
 хорони праці»: https://forms.gle/UNzRLQizpz8uQFLQA. \n\n \n\n
  \n\nФорма проведення конференції: \nзміш
 ана (з використанням програми для відеоз
 в’язку Zoom)\n\n \n\nРобочі мови конференції 
 – українська\, англійська\, польська.\n\n \
 n\nУчасть у конференції\, отримання елект
 ронного збірника тез доповідей\, програм
 и конференції та сертифіката учасника є 
 безкоштовними.\n\nhttps://indico.ldubgd.edu.ua/event/77/
LOCATION:Головний корпус\, вул. Клепарівська\
 , 35\, м. Львів / Main building\, 35 Kleparivska str.\, Lviv
URL:https://indico.ldubgd.edu.ua/event/77/
END:VEVENT
END:VCALENDAR
