BEGIN:VCALENDAR
VERSION:2.0
PRODID:-//CERN//INDICO//EN
BEGIN:VEVENT
SUMMARY:IІ Міжнародна науково-практична кон
 ференція «Біологічні\, хімічні та еколог
 ічні загрози в умовах війни» / II International Sc
 ientific and Practical Conference «Biological\, Chemical and Environmenta
 l Threats During the War»
DTSTART;VALUE=DATE-TIME:20260527T060000Z
DTEND;VALUE=DATE-TIME:20260527T150000Z
DTSTAMP;VALUE=DATE-TIME:20260421T123124Z
UID:indico-event-79@indico.ldubgd.edu.ua
DESCRIPTION:                                    \n\nШ
 ановні колеги!\n\nЗапрошуємо Вас приєднат
 ися до ІІ Міжнародної науково-практично
 ї конференції «Біологічні\, хімічні та е
 кологічні загрози в умовах війни»\, яка в
 ідбудеться 27 травня 2026 року у Львівськом
 у державному університеті безпеки життє
 діяльності\, у співпраці з ДНТ «Львівськ
 ий національний медичний університет ім
 ені Данила Галицького» та за партнерств
 а ДУ «Львівський обласний центр контрол
 ю та профілактики хвороб Міністерства о
 хорони здоров’я України»\, Українського
  Товариства Червоного Хреста\, Київськог
 о університету права НАН України.\n\nВажл
 иві дати:\n\nдо 22 травня 2026 року — реєстра
 ція та подання тез\, матеріалів монограф
 ії.\n\nДля участі у конференції необхідно 
 зареєструватися та завантажити тези за 
 посиланнями: \n\nhttps://forms.gle/zUzQ9KpERfWjz9VR7\n\nФор
 ма проведення конференції: \nзмішана (з в
 икористанням програми для відеозв’язку
  Zoom)\n\nРобочі мови конференції – українс
 ька\, англійська.\n\nУчасть у конференції -
  безкоштовно.\n\nhttps://indico.ldubgd.edu.ua/event/79/
LOCATION:Головний корпус\, вул. Клепарівська\
 , 35\, м. Львів / Main building\, 35 Kleparivska str.\, Lviv
URL:https://indico.ldubgd.edu.ua/event/79/
END:VEVENT
END:VCALENDAR
